BEGIN:VCALENDAR
VERSION:2.0
PRODID:-//St Bedes Blackburn - ECPv6.0.2//NONSGML v1.0//EN
CALSCALE:GREGORIAN
METHOD:PUBLISH
X-ORIGINAL-URL:https://www.stbedesblackburn.com
X-WR-CALDESC:Events for St Bedes Blackburn
REFRESH-INTERVAL;VALUE=DURATION:PT1H
X-Robots-Tag:noindex
X-PUBLISHED-TTL:PT1H
BEGIN:VTIMEZONE
TZID:Europe/London
BEGIN:DAYLIGHT
TZOFFSETFROM:+0000
TZOFFSETTO:+0100
TZNAME:BST
DTSTART:20250330T010000
END:DAYLIGHT
BEGIN:STANDARD
TZOFFSETFROM:+0100
TZOFFSETTO:+0000
TZNAME:GMT
DTSTART:20251026T010000
END:STANDARD
END:VTIMEZONE
BEGIN:VEVENT
DTSTART;VALUE=DATE:20250305
DTEND;VALUE=DATE:20250306
DTSTAMP:20260421T125438
CREATED:20241204T113706Z
LAST-MODIFIED:20241204T113706Z
UID:16128-1741132800-1741219199@www.stbedesblackburn.com
SUMMARY:Ash Wednesday - Start of Lent
DESCRIPTION:
URL:https://www.stbedesblackburn.com/event/ash-wednesday-start-of-lent/
END:VEVENT
BEGIN:VEVENT
DTSTART;TZID=Europe/London:20250305T000000
DTEND;TZID=Europe/London:20250307T235900
DTSTAMP:20260421T125438
CREATED:20241016T135526Z
LAST-MODIFIED:20241016T135601Z
UID:15772-1741132800-1741391940@www.stbedesblackburn.com
SUMMARY:Year 8 Castlerigg Retreat Trip with St Augustine's
DESCRIPTION:
URL:https://www.stbedesblackburn.com/event/year-8-castlerigg-retreat-trip-with-st-augustines/
END:VEVENT
END:VCALENDAR