BEGIN:VCALENDAR
VERSION:2.0
PRODID:-//St Bedes Blackburn - ECPv6.0.2//NONSGML v1.0//EN
CALSCALE:GREGORIAN
METHOD:PUBLISH
X-WR-CALNAME:St Bedes Blackburn
X-ORIGINAL-URL:https://www.stbedesblackburn.com
X-WR-CALDESC:Events for St Bedes Blackburn
REFRESH-INTERVAL;VALUE=DURATION:PT1H
X-Robots-Tag:noindex
X-PUBLISHED-TTL:PT1H
BEGIN:VTIMEZONE
TZID:Europe/London
BEGIN:DAYLIGHT
TZOFFSETFROM:+0000
TZOFFSETTO:+0100
TZNAME:BST
DTSTART:20250330T010000
END:DAYLIGHT
BEGIN:STANDARD
TZOFFSETFROM:+0100
TZOFFSETTO:+0000
TZNAME:GMT
DTSTART:20251026T010000
END:STANDARD
END:VTIMEZONE
BEGIN:VEVENT
DTSTART;VALUE=DATE:20250625
DTEND;VALUE=DATE:20250626
DTSTAMP:20260421T112443
CREATED:20241010T140723Z
LAST-MODIFIED:20241011T071535Z
UID:15600-1750809600-1750895999@www.stbedesblackburn.com
SUMMARY:Year 8 Sacrament of Confirmation Service -  St Joseph's Church
DESCRIPTION:
URL:https://www.stbedesblackburn.com/event/year-8-sacrament-of-confirmation-service-st-josephs-church/
END:VEVENT
END:VCALENDAR