BEGIN:VCALENDAR
VERSION:2.0
PRODID:-//St Bedes Blackburn - ECPv6.0.2//NONSGML v1.0//EN
CALSCALE:GREGORIAN
METHOD:PUBLISH
X-WR-CALNAME:St Bedes Blackburn
X-ORIGINAL-URL:https://www.stbedesblackburn.com
X-WR-CALDESC:Events for St Bedes Blackburn
REFRESH-INTERVAL;VALUE=DURATION:PT1H
X-Robots-Tag:noindex
X-PUBLISHED-TTL:PT1H
BEGIN:VTIMEZONE
TZID:Europe/London
BEGIN:DAYLIGHT
TZOFFSETFROM:+0000
TZOFFSETTO:+0100
TZNAME:BST
DTSTART:20260329T010000
END:DAYLIGHT
BEGIN:STANDARD
TZOFFSETFROM:+0100
TZOFFSETTO:+0000
TZNAME:GMT
DTSTART:20261025T010000
END:STANDARD
END:VTIMEZONE
BEGIN:VEVENT
DTSTART;VALUE=DATE:20260619
DTEND;VALUE=DATE:20260620
DTSTAMP:20260421T141756
CREATED:20251024T101908Z
LAST-MODIFIED:20251024T101908Z
UID:17765-1781827200-1781913599@www.stbedesblackburn.com
SUMMARY:Leaver's Celebration
DESCRIPTION:
URL:https://www.stbedesblackburn.com/event/leavers-celebration-2/
END:VEVENT
BEGIN:VEVENT
DTSTART;TZID=Europe/London:20260619T080000
DTEND;TZID=Europe/London:20260619T170000
DTSTAMP:20260421T141756
CREATED:20250905T110024Z
LAST-MODIFIED:20250905T110024Z
UID:17266-1781856000-1781888400@www.stbedesblackburn.com
SUMMARY:Leavers Celebration
DESCRIPTION:
URL:https://www.stbedesblackburn.com/event/leavers-celebration/
END:VEVENT
END:VCALENDAR