BEGIN:VCALENDAR
VERSION:2.0
PRODID:-//St Bedes Blackburn - ECPv6.0.2//NONSGML v1.0//EN
CALSCALE:GREGORIAN
METHOD:PUBLISH
X-WR-CALNAME:St Bedes Blackburn
X-ORIGINAL-URL:https://www.stbedesblackburn.com
X-WR-CALDESC:Events for St Bedes Blackburn
REFRESH-INTERVAL;VALUE=DURATION:PT1H
X-Robots-Tag:noindex
X-PUBLISHED-TTL:PT1H
BEGIN:VTIMEZONE
TZID:Europe/London
BEGIN:DAYLIGHT
TZOFFSETFROM:+0000
TZOFFSETTO:+0100
TZNAME:BST
DTSTART:20260329T010000
END:DAYLIGHT
BEGIN:STANDARD
TZOFFSETFROM:+0100
TZOFFSETTO:+0000
TZNAME:GMT
DTSTART:20261025T010000
END:STANDARD
END:VTIMEZONE
BEGIN:VEVENT
DTSTART;TZID=Europe/London:20260629T080000
DTEND;TZID=Europe/London:20260703T170000
DTSTAMP:20260421T142731
CREATED:20251024T103655Z
LAST-MODIFIED:20251024T103655Z
UID:17771-1782720000-1783098000@www.stbedesblackburn.com
SUMMARY:Work Experience week
DESCRIPTION:
URL:https://www.stbedesblackburn.com/event/work-experience-week/
END:VEVENT
BEGIN:VEVENT
DTSTART;VALUE=DATE:20260701
DTEND;VALUE=DATE:20260703
DTSTAMP:20260421T142731
CREATED:20251024T103802Z
LAST-MODIFIED:20251024T103802Z
UID:17773-1782864000-1783036799@www.stbedesblackburn.com
SUMMARY:Year 6 Transition
DESCRIPTION:
URL:https://www.stbedesblackburn.com/event/year-6-transition/
END:VEVENT
BEGIN:VEVENT
DTSTART;TZID=Europe/London:20260701T170000
DTEND;TZID=Europe/London:20260701T190000
DTSTAMP:20260421T142731
CREATED:20251024T103907Z
LAST-MODIFIED:20251024T103907Z
UID:17775-1782925200-1782932400@www.stbedesblackburn.com
SUMMARY:Year 6 Parent Information Evening
DESCRIPTION:
URL:https://www.stbedesblackburn.com/event/year-6-parent-information-evening/
END:VEVENT
END:VCALENDAR