BEGIN:VCALENDAR
VERSION:2.0
PRODID:-//St Bedes Blackburn - ECPv6.0.2//NONSGML v1.0//EN
CALSCALE:GREGORIAN
METHOD:PUBLISH
X-WR-CALNAME:St Bedes Blackburn
X-ORIGINAL-URL:https://www.stbedesblackburn.com
X-WR-CALDESC:Events for St Bedes Blackburn
REFRESH-INTERVAL;VALUE=DURATION:PT1H
X-Robots-Tag:noindex
X-PUBLISHED-TTL:PT1H
BEGIN:VTIMEZONE
TZID:Europe/London
BEGIN:DAYLIGHT
TZOFFSETFROM:+0000
TZOFFSETTO:+0100
TZNAME:BST
DTSTART:20230326T010000
END:DAYLIGHT
BEGIN:STANDARD
TZOFFSETFROM:+0100
TZOFFSETTO:+0000
TZNAME:GMT
DTSTART:20231029T010000
END:STANDARD
END:VTIMEZONE
BEGIN:VEVENT
DTSTART;TZID=Europe/London:20230905T080000
DTEND;TZID=Europe/London:20230905T150000
DTSTAMP:20260421T112555
CREATED:20230710T143523Z
LAST-MODIFIED:20230710T143523Z
UID:14345-1693900800-1693926000@www.stbedesblackburn.com
SUMMARY:School reopens to Pupils
DESCRIPTION:
URL:https://www.stbedesblackburn.com/event/school-reopens-to-pupils/
END:VEVENT
BEGIN:VEVENT
DTSTART;TZID=Europe/London:20230906T080000
DTEND;TZID=Europe/London:20230906T150000
DTSTAMP:20260421T112555
CREATED:20230905T111423Z
LAST-MODIFIED:20230905T111448Z
UID:14397-1693987200-1694012400@www.stbedesblackburn.com
SUMMARY:Year 7 Photos
DESCRIPTION:
URL:https://www.stbedesblackburn.com/event/yeat-7-photos/
END:VEVENT
BEGIN:VEVENT
DTSTART;TZID=Europe/London:20230911T080000
DTEND;TZID=Europe/London:20230911T150000
DTSTAMP:20260421T112555
CREATED:20230905T111732Z
LAST-MODIFIED:20230905T111732Z
UID:14400-1694419200-1694444400@www.stbedesblackburn.com
SUMMARY:Year 10 Photos
DESCRIPTION:
URL:https://www.stbedesblackburn.com/event/year-10-photos/
END:VEVENT
BEGIN:VEVENT
DTSTART;TZID=Europe/London:20230920T093000
DTEND;TZID=Europe/London:20230920T113000
DTSTAMP:20260421T112555
CREATED:20230905T111828Z
LAST-MODIFIED:20230905T111828Z
UID:14402-1695202200-1695209400@www.stbedesblackburn.com
SUMMARY:Blackburn is Hiring KGH (Year11)
DESCRIPTION:
URL:https://www.stbedesblackburn.com/event/blackburn-is-hiring-kgh-year11/
END:VEVENT
BEGIN:VEVENT
DTSTART;TZID=Europe/London:20230926T080000
DTEND;TZID=Europe/London:20230926T150000
DTSTAMP:20260421T112555
CREATED:20230905T112001Z
LAST-MODIFIED:20230905T112001Z
UID:14406-1695715200-1695740400@www.stbedesblackburn.com
SUMMARY:European Day of Languages
DESCRIPTION:
URL:https://www.stbedesblackburn.com/event/european-day-of-languages/
END:VEVENT
BEGIN:VEVENT
DTSTART;TZID=Europe/London:20230928T163000
DTEND;TZID=Europe/London:20230928T193000
DTSTAMP:20260421T112555
CREATED:20230905T111903Z
LAST-MODIFIED:20230905T111903Z
UID:14404-1695918600-1695929400@www.stbedesblackburn.com
SUMMARY:Open Evening
DESCRIPTION:
URL:https://www.stbedesblackburn.com/event/open-evening/
END:VEVENT
END:VCALENDAR