BEGIN:VCALENDAR
VERSION:2.0
PRODID:-//St Bedes Blackburn - ECPv6.0.2//NONSGML v1.0//EN
CALSCALE:GREGORIAN
METHOD:PUBLISH
X-WR-CALNAME:St Bedes Blackburn
X-ORIGINAL-URL:https://www.stbedesblackburn.com
X-WR-CALDESC:Events for St Bedes Blackburn
REFRESH-INTERVAL;VALUE=DURATION:PT1H
X-Robots-Tag:noindex
X-PUBLISHED-TTL:PT1H
BEGIN:VTIMEZONE
TZID:Europe/London
BEGIN:DAYLIGHT
TZOFFSETFROM:+0000
TZOFFSETTO:+0100
TZNAME:BST
DTSTART:20250330T010000
END:DAYLIGHT
BEGIN:STANDARD
TZOFFSETFROM:+0100
TZOFFSETTO:+0000
TZNAME:GMT
DTSTART:20251026T010000
END:STANDARD
END:VTIMEZONE
BEGIN:VEVENT
DTSTART;VALUE=DATE:20250304
DTEND;VALUE=DATE:20250305
DTSTAMP:20260421T112509
CREATED:20241204T113636Z
LAST-MODIFIED:20241204T113636Z
UID:16126-1741046400-1741132799@www.stbedesblackburn.com
SUMMARY:Shrove Tuesday
DESCRIPTION:
URL:https://www.stbedesblackburn.com/event/shrove-tuesday-2/
END:VEVENT
BEGIN:VEVENT
DTSTART;VALUE=DATE:20250305
DTEND;VALUE=DATE:20250306
DTSTAMP:20260421T112509
CREATED:20241204T113706Z
LAST-MODIFIED:20241204T113706Z
UID:16128-1741132800-1741219199@www.stbedesblackburn.com
SUMMARY:Ash Wednesday - Start of Lent
DESCRIPTION:
URL:https://www.stbedesblackburn.com/event/ash-wednesday-start-of-lent/
END:VEVENT
BEGIN:VEVENT
DTSTART;TZID=Europe/London:20250305T000000
DTEND;TZID=Europe/London:20250307T235900
DTSTAMP:20260421T112509
CREATED:20241016T135526Z
LAST-MODIFIED:20241016T135601Z
UID:15772-1741132800-1741391940@www.stbedesblackburn.com
SUMMARY:Year 8 Castlerigg Retreat Trip with St Augustine's
DESCRIPTION:
URL:https://www.stbedesblackburn.com/event/year-8-castlerigg-retreat-trip-with-st-augustines/
END:VEVENT
BEGIN:VEVENT
DTSTART;TZID=Europe/London:20250308T080000
DTEND;TZID=Europe/London:20250315T170000
DTSTAMP:20260421T112509
CREATED:20241016T135704Z
LAST-MODIFIED:20241016T135704Z
UID:15774-1741420800-1742058000@www.stbedesblackburn.com
SUMMARY:Ski Trip 2025
DESCRIPTION:
URL:https://www.stbedesblackburn.com/event/ski-trip-2025/
END:VEVENT
BEGIN:VEVENT
DTSTART;TZID=Europe/London:20250316T080000
DTEND;TZID=Europe/London:20250319T170000
DTSTAMP:20260421T112509
CREATED:20241016T135738Z
LAST-MODIFIED:20241016T135738Z
UID:15776-1742112000-1742403600@www.stbedesblackburn.com
SUMMARY:Iceland Trip
DESCRIPTION:
URL:https://www.stbedesblackburn.com/event/iceland-trip-2/
END:VEVENT
BEGIN:VEVENT
DTSTART;VALUE=DATE:20250321
DTEND;VALUE=DATE:20250322
DTSTAMP:20260421T112509
CREATED:20250121T091039Z
LAST-MODIFIED:20250121T091039Z
UID:16570-1742515200-1742601599@www.stbedesblackburn.com
SUMMARY:Linking Classrooms Event with Pupils from Pleckgate School
DESCRIPTION:
URL:https://www.stbedesblackburn.com/event/linking-classrooms-event-with-pupils-from-pleckgate-school/
END:VEVENT
BEGIN:VEVENT
DTSTART;VALUE=DATE:20250324
DTEND;VALUE=DATE:20250325
DTSTAMP:20260421T112509
CREATED:20250121T124145Z
LAST-MODIFIED:20250121T124145Z
UID:16572-1742774400-1742860799@www.stbedesblackburn.com
SUMMARY:Jubilee Anchor arrives at St Bede's
DESCRIPTION:
URL:https://www.stbedesblackburn.com/event/jubilee-anchor-arrives-at-st-bedes/
END:VEVENT
BEGIN:VEVENT
DTSTART;VALUE=DATE:20250325
DTEND;VALUE=DATE:20250326
DTSTAMP:20260421T112509
CREATED:20240904T132403Z
LAST-MODIFIED:20240904T132403Z
UID:15348-1742860800-1742947199@www.stbedesblackburn.com
SUMMARY:Year 11 Progress Report 2 Out
DESCRIPTION:
URL:https://www.stbedesblackburn.com/event/year-11-progress-report-2-out/
END:VEVENT
BEGIN:VEVENT
DTSTART;VALUE=DATE:20250327
DTEND;VALUE=DATE:20250328
DTSTAMP:20260421T112509
CREATED:20241016T135812Z
LAST-MODIFIED:20241016T135812Z
UID:15778-1743033600-1743119999@www.stbedesblackburn.com
SUMMARY:Year 8 Science Trip to Chester Zoo
DESCRIPTION:
URL:https://www.stbedesblackburn.com/event/year-8-science-trip-to-chester-zoo/
END:VEVENT
BEGIN:VEVENT
DTSTART;TZID=Europe/London:20250327T153000
DTEND;TZID=Europe/London:20250327T183000
DTSTAMP:20260421T112509
CREATED:20240904T130538Z
LAST-MODIFIED:20240904T130538Z
UID:15316-1743089400-1743100200@www.stbedesblackburn.com
SUMMARY:Year 11 Progress Evening
DESCRIPTION:
URL:https://www.stbedesblackburn.com/event/year-11-progress-evening-2/
END:VEVENT
END:VCALENDAR