BEGIN:VCALENDAR
VERSION:2.0
PRODID:-//St Bedes Blackburn - ECPv6.0.2//NONSGML v1.0//EN
CALSCALE:GREGORIAN
METHOD:PUBLISH
X-ORIGINAL-URL:https://www.stbedesblackburn.com
X-WR-CALDESC:Events for St Bedes Blackburn
REFRESH-INTERVAL;VALUE=DURATION:PT1H
X-Robots-Tag:noindex
X-PUBLISHED-TTL:PT1H
BEGIN:VTIMEZONE
TZID:Europe/London
BEGIN:DAYLIGHT
TZOFFSETFROM:+0000
TZOFFSETTO:+0100
TZNAME:BST
DTSTART:20250330T010000
END:DAYLIGHT
BEGIN:STANDARD
TZOFFSETFROM:+0100
TZOFFSETTO:+0000
TZNAME:GMT
DTSTART:20251026T010000
END:STANDARD
BEGIN:DAYLIGHT
TZOFFSETFROM:+0000
TZOFFSETTO:+0100
TZNAME:BST
DTSTART:20260329T010000
END:DAYLIGHT
BEGIN:STANDARD
TZOFFSETFROM:+0100
TZOFFSETTO:+0000
TZNAME:GMT
DTSTART:20261025T010000
END:STANDARD
END:VTIMEZONE
BEGIN:VEVENT
DTSTART;TZID=Europe/London:20251222T080000
DTEND;TZID=Europe/London:20260104T170000
DTSTAMP:20260421T112922
CREATED:20250905T101953Z
LAST-MODIFIED:20250905T101953Z
UID:17216-1766390400-1767546000@www.stbedesblackburn.com
SUMMARY:Christmas Break
DESCRIPTION:
URL:https://www.stbedesblackburn.com/event/christmas-break/
END:VEVENT
BEGIN:VEVENT
DTSTART;VALUE=DATE:20260105
DTEND;VALUE=DATE:20260106
DTSTAMP:20260421T112922
CREATED:20251024T074728Z
LAST-MODIFIED:20251024T074728Z
UID:17713-1767571200-1767657599@www.stbedesblackburn.com
SUMMARY:School reopens
DESCRIPTION:
URL:https://www.stbedesblackburn.com/event/school-reopens-6/
END:VEVENT
BEGIN:VEVENT
DTSTART;VALUE=DATE:20260107
DTEND;VALUE=DATE:20260108
DTSTAMP:20260421T112922
CREATED:20260107T122603Z
LAST-MODIFIED:20260107T122603Z
UID:18343-1767744000-1767830399@www.stbedesblackburn.com
SUMMARY:Year 9 Holocaust Memorial Trip
DESCRIPTION:
URL:https://www.stbedesblackburn.com/event/year-9-holocaust-memorial-trip/
END:VEVENT
BEGIN:VEVENT
DTSTART;VALUE=DATE:20260112
DTEND;VALUE=DATE:20260113
DTSTAMP:20260421T112922
CREATED:20251203T090627Z
LAST-MODIFIED:20251203T090627Z
UID:18273-1768176000-1768262399@www.stbedesblackburn.com
SUMMARY:Imperial War Museum trip - Year 9
DESCRIPTION:
URL:https://www.stbedesblackburn.com/event/imperial-war-museum-trip-year-9/
END:VEVENT
BEGIN:VEVENT
DTSTART;TZID=Europe/London:20260114T093000
DTEND;TZID=Europe/London:20260114T120000
DTSTAMP:20260421T112922
CREATED:20260109T111811Z
LAST-MODIFIED:20260109T111811Z
UID:18352-1768383000-1768392000@www.stbedesblackburn.com
SUMMARY:Accrington & Rossendale College Construction taster session
DESCRIPTION:
URL:https://www.stbedesblackburn.com/event/accrington-rossendale-college-construction-taster-session/
END:VEVENT
BEGIN:VEVENT
DTSTART;VALUE=DATE:20260115
DTEND;VALUE=DATE:20260116
DTSTAMP:20260421T112922
CREATED:20260109T111643Z
LAST-MODIFIED:20260109T111655Z
UID:18349-1768435200-1768521599@www.stbedesblackburn.com
SUMMARY:Blackburn College Mega IT Day
DESCRIPTION:
URL:https://www.stbedesblackburn.com/event/blackburn-college-mega-it-day/
END:VEVENT
BEGIN:VEVENT
DTSTART;TZID=Europe/London:20260115T170000
DTEND;TZID=Europe/London:20260115T190000
DTSTAMP:20260421T112922
CREATED:20251024T074832Z
LAST-MODIFIED:20251024T074832Z
UID:17715-1768496400-1768503600@www.stbedesblackburn.com
SUMMARY:Year 9 Curriculum Options Evening
DESCRIPTION:
URL:https://www.stbedesblackburn.com/event/year-9-curriculum-options-evening-2/
END:VEVENT
BEGIN:VEVENT
DTSTART;VALUE=DATE:20260123
DTEND;VALUE=DATE:20260124
DTSTAMP:20260421T112922
CREATED:20251128T122811Z
LAST-MODIFIED:20251128T122811Z
UID:18233-1769126400-1769212799@www.stbedesblackburn.com
SUMMARY:Year 9 Options Deadline
DESCRIPTION:
URL:https://www.stbedesblackburn.com/event/year-9-options-deadline/
END:VEVENT
BEGIN:VEVENT
DTSTART;VALUE=DATE:20260129
DTEND;VALUE=DATE:20260130
DTSTAMP:20260421T112922
CREATED:20260109T112055Z
LAST-MODIFIED:20260112T094016Z
UID:18354-1769644800-1769731199@www.stbedesblackburn.com
SUMMARY:St. Mary's Church in Burnley visit (Saint Carlo Acutis)
DESCRIPTION:
URL:https://www.stbedesblackburn.com/event/saint-carlo-acutis-visit/
END:VEVENT
END:VCALENDAR