BEGIN:VCALENDAR
VERSION:2.0
PRODID:-//St Bedes Blackburn - ECPv6.0.2//NONSGML v1.0//EN
CALSCALE:GREGORIAN
METHOD:PUBLISH
X-WR-CALNAME:St Bedes Blackburn
X-ORIGINAL-URL:https://www.stbedesblackburn.com
X-WR-CALDESC:Events for St Bedes Blackburn
REFRESH-INTERVAL;VALUE=DURATION:PT1H
X-Robots-Tag:noindex
X-PUBLISHED-TTL:PT1H
BEGIN:VTIMEZONE
TZID:Europe/London
BEGIN:DAYLIGHT
TZOFFSETFROM:+0000
TZOFFSETTO:+0100
TZNAME:BST
DTSTART:20260329T010000
END:DAYLIGHT
BEGIN:STANDARD
TZOFFSETFROM:+0100
TZOFFSETTO:+0000
TZNAME:GMT
DTSTART:20261025T010000
END:STANDARD
END:VTIMEZONE
BEGIN:VEVENT
DTSTART;VALUE=DATE:20260508
DTEND;VALUE=DATE:20260618
DTSTAMP:20260421T112442
CREATED:20250905T105708Z
LAST-MODIFIED:20251024T101716Z
UID:17260-1778198400-1781740799@www.stbedesblackburn.com
SUMMARY:GCSE Exams
DESCRIPTION:
URL:https://www.stbedesblackburn.com/event/gcse-exams-start/
END:VEVENT
BEGIN:VEVENT
DTSTART;VALUE=DATE:20260601
DTEND;VALUE=DATE:20260602
DTSTAMP:20260421T112442
CREATED:20251024T101300Z
LAST-MODIFIED:20251024T101300Z
UID:17754-1780272000-1780358399@www.stbedesblackburn.com
SUMMARY:School reopens
DESCRIPTION:
URL:https://www.stbedesblackburn.com/event/school-reopens-8/
END:VEVENT
BEGIN:VEVENT
DTSTART;TZID=Europe/London:20260602T143000
DTEND;TZID=Europe/London:20260602T153000
DTSTAMP:20260421T112442
CREATED:20251024T101346Z
LAST-MODIFIED:20251024T101346Z
UID:17756-1780410600-1780414200@www.stbedesblackburn.com
SUMMARY:Confirmation Preparation Class 2
DESCRIPTION:
URL:https://www.stbedesblackburn.com/event/confirmation-preparation-class-2/
END:VEVENT
BEGIN:VEVENT
DTSTART;TZID=Europe/London:20260609T143000
DTEND;TZID=Europe/London:20260609T153000
DTSTAMP:20260421T112442
CREATED:20251024T101547Z
LAST-MODIFIED:20251024T101547Z
UID:17758-1781015400-1781019000@www.stbedesblackburn.com
SUMMARY:Confirmation Preparation Class 3
DESCRIPTION:
URL:https://www.stbedesblackburn.com/event/confirmation-preparation-class-3/
END:VEVENT
BEGIN:VEVENT
DTSTART;TZID=Europe/London:20260616T143000
DTEND;TZID=Europe/London:20260616T153000
DTSTAMP:20260421T112442
CREATED:20251024T101633Z
LAST-MODIFIED:20251024T101633Z
UID:17760-1781620200-1781623800@www.stbedesblackburn.com
SUMMARY:Confirmation Preparation Class 4
DESCRIPTION:
URL:https://www.stbedesblackburn.com/event/confirmation-preparation-class-4/
END:VEVENT
BEGIN:VEVENT
DTSTART;VALUE=DATE:20260617
DTEND;VALUE=DATE:20260618
DTSTAMP:20260421T112442
CREATED:20251024T101750Z
LAST-MODIFIED:20251024T101750Z
UID:17763-1781654400-1781740799@www.stbedesblackburn.com
SUMMARY:Sports Day
DESCRIPTION:
URL:https://www.stbedesblackburn.com/event/sports-day-4/
END:VEVENT
BEGIN:VEVENT
DTSTART;VALUE=DATE:20260618
DTEND;VALUE=DATE:20260619
DTSTAMP:20260421T112442
CREATED:20250905T105922Z
LAST-MODIFIED:20251024T101824Z
UID:17264-1781740800-1781827199@www.stbedesblackburn.com
SUMMARY:Year 10 Runshaw College Taster Day
DESCRIPTION:
URL:https://www.stbedesblackburn.com/event/year-10-runshaw-college-taster-day/
END:VEVENT
BEGIN:VEVENT
DTSTART;VALUE=DATE:20260619
DTEND;VALUE=DATE:20260620
DTSTAMP:20260421T112442
CREATED:20251024T101908Z
LAST-MODIFIED:20251024T101908Z
UID:17765-1781827200-1781913599@www.stbedesblackburn.com
SUMMARY:Leaver's Celebration
DESCRIPTION:
URL:https://www.stbedesblackburn.com/event/leavers-celebration-2/
END:VEVENT
BEGIN:VEVENT
DTSTART;TZID=Europe/London:20260619T080000
DTEND;TZID=Europe/London:20260619T170000
DTSTAMP:20260421T112442
CREATED:20250905T110024Z
LAST-MODIFIED:20250905T110024Z
UID:17266-1781856000-1781888400@www.stbedesblackburn.com
SUMMARY:Leavers Celebration
DESCRIPTION:
URL:https://www.stbedesblackburn.com/event/leavers-celebration/
END:VEVENT
BEGIN:VEVENT
DTSTART;VALUE=DATE:20260622
DTEND;VALUE=DATE:20260627
DTSTAMP:20260421T112442
CREATED:20251024T103529Z
LAST-MODIFIED:20251024T103611Z
UID:17769-1782086400-1782518399@www.stbedesblackburn.com
SUMMARY:Charity Fundraising week
DESCRIPTION:
URL:https://www.stbedesblackburn.com/event/charity-fundraising-week/
END:VEVENT
BEGIN:VEVENT
DTSTART;TZID=Europe/London:20260624T080000
DTEND;TZID=Europe/London:20260624T170000
DTSTAMP:20260421T112442
CREATED:20250905T110053Z
LAST-MODIFIED:20250905T110053Z
UID:17268-1782288000-1782320400@www.stbedesblackburn.com
SUMMARY:Town Sports
DESCRIPTION:
URL:https://www.stbedesblackburn.com/event/town-sports-2/
END:VEVENT
BEGIN:VEVENT
DTSTART;TZID=Europe/London:20260624T180000
DTEND;TZID=Europe/London:20260624T200000
DTSTAMP:20260421T112442
CREATED:20251024T102036Z
LAST-MODIFIED:20251024T102036Z
UID:17767-1782324000-1782331200@www.stbedesblackburn.com
SUMMARY:Confirmation Celebration at St Joseph's Church
DESCRIPTION:
URL:https://www.stbedesblackburn.com/event/confirmation-celebration-at-st-josephs-church/
END:VEVENT
BEGIN:VEVENT
DTSTART;TZID=Europe/London:20260625T190000
DTEND;TZID=Europe/London:20260625T230000
DTSTAMP:20260421T112442
CREATED:20250905T110237Z
LAST-MODIFIED:20250905T110237Z
UID:17270-1782414000-1782428400@www.stbedesblackburn.com
SUMMARY:Year 11 Prom - Shaw Hill
DESCRIPTION:
URL:https://www.stbedesblackburn.com/event/year-11-prom-shaw-hill/
END:VEVENT
BEGIN:VEVENT
DTSTART;TZID=Europe/London:20260629T080000
DTEND;TZID=Europe/London:20260703T170000
DTSTAMP:20260421T112442
CREATED:20251024T103655Z
LAST-MODIFIED:20251024T103655Z
UID:17771-1782720000-1783098000@www.stbedesblackburn.com
SUMMARY:Work Experience week
DESCRIPTION:
URL:https://www.stbedesblackburn.com/event/work-experience-week/
END:VEVENT
END:VCALENDAR