BEGIN:VCALENDAR
VERSION:2.0
PRODID:-//St Bedes Blackburn - ECPv6.0.2//NONSGML v1.0//EN
CALSCALE:GREGORIAN
METHOD:PUBLISH
X-ORIGINAL-URL:https://www.stbedesblackburn.com
X-WR-CALDESC:Events for St Bedes Blackburn
REFRESH-INTERVAL;VALUE=DURATION:PT1H
X-Robots-Tag:noindex
X-PUBLISHED-TTL:PT1H
BEGIN:VTIMEZONE
TZID:Europe/London
BEGIN:DAYLIGHT
TZOFFSETFROM:+0000
TZOFFSETTO:+0100
TZNAME:BST
DTSTART:20260329T010000
END:DAYLIGHT
BEGIN:STANDARD
TZOFFSETFROM:+0100
TZOFFSETTO:+0000
TZNAME:GMT
DTSTART:20261025T010000
END:STANDARD
END:VTIMEZONE
BEGIN:VEVENT
DTSTART;TZID=Europe/London:20260629T080000
DTEND;TZID=Europe/London:20260703T170000
DTSTAMP:20260421T125417
CREATED:20251024T103655Z
LAST-MODIFIED:20251024T103655Z
UID:17771-1782720000-1783098000@www.stbedesblackburn.com
SUMMARY:Work Experience week
DESCRIPTION:
URL:https://www.stbedesblackburn.com/event/work-experience-week/
END:VEVENT
BEGIN:VEVENT
DTSTART;VALUE=DATE:20260701
DTEND;VALUE=DATE:20260703
DTSTAMP:20260421T125417
CREATED:20251024T103802Z
LAST-MODIFIED:20251024T103802Z
UID:17773-1782864000-1783036799@www.stbedesblackburn.com
SUMMARY:Year 6 Transition
DESCRIPTION:
URL:https://www.stbedesblackburn.com/event/year-6-transition/
END:VEVENT
BEGIN:VEVENT
DTSTART;TZID=Europe/London:20260701T170000
DTEND;TZID=Europe/London:20260701T190000
DTSTAMP:20260421T125417
CREATED:20251024T103907Z
LAST-MODIFIED:20251024T103907Z
UID:17775-1782925200-1782932400@www.stbedesblackburn.com
SUMMARY:Year 6 Parent Information Evening
DESCRIPTION:
URL:https://www.stbedesblackburn.com/event/year-6-parent-information-evening/
END:VEVENT
BEGIN:VEVENT
DTSTART;VALUE=DATE:20260707
DTEND;VALUE=DATE:20260708
DTSTAMP:20260421T125417
CREATED:20251024T103954Z
LAST-MODIFIED:20251024T103954Z
UID:17777-1783382400-1783468799@www.stbedesblackburn.com
SUMMARY:Rewards Day
DESCRIPTION:
URL:https://www.stbedesblackburn.com/event/rewards-day/
END:VEVENT
BEGIN:VEVENT
DTSTART;VALUE=DATE:20260708
DTEND;VALUE=DATE:20260709
DTSTAMP:20260421T125417
CREATED:20260212T153434Z
LAST-MODIFIED:20260212T153434Z
UID:18439-1783468800-1783555199@www.stbedesblackburn.com
SUMMARY:Year 7 Whalley Abbey Retreat
DESCRIPTION:
URL:https://www.stbedesblackburn.com/event/year-7-whalley-abbey-retreat-5/
END:VEVENT
BEGIN:VEVENT
DTSTART;VALUE=DATE:20260715
DTEND;VALUE=DATE:20260716
DTSTAMP:20260421T125417
CREATED:20260212T153510Z
LAST-MODIFIED:20260212T153510Z
UID:18441-1784073600-1784159999@www.stbedesblackburn.com
SUMMARY:Year 7 Whalley Abbey Retreat
DESCRIPTION:
URL:https://www.stbedesblackburn.com/event/year-7-whalley-abbey-retreat-6/
END:VEVENT
BEGIN:VEVENT
DTSTART;VALUE=DATE:20260717
DTEND;VALUE=DATE:20260718
DTSTAMP:20260421T125417
CREATED:20251024T104149Z
LAST-MODIFIED:20251024T104149Z
UID:17779-1784246400-1784332799@www.stbedesblackburn.com
SUMMARY:School closes for Summer break 2.55pm
DESCRIPTION:
URL:https://www.stbedesblackburn.com/event/school-closes-for-summer-break-2-55pm/
END:VEVENT
BEGIN:VEVENT
DTSTART;VALUE=DATE:20260720
DTEND;VALUE=DATE:20260721
DTSTAMP:20260421T125417
CREATED:20250905T102703Z
LAST-MODIFIED:20250905T102703Z
UID:17229-1784505600-1784591999@www.stbedesblackburn.com
SUMMARY:Staff Training Day - School closed
DESCRIPTION:
URL:https://www.stbedesblackburn.com/event/staff-training-day-school-closed/
END:VEVENT
BEGIN:VEVENT
DTSTART;TZID=Europe/London:20260721T080000
DTEND;TZID=Europe/London:20260831T170000
DTSTAMP:20260421T125417
CREATED:20250905T102826Z
LAST-MODIFIED:20250905T102826Z
UID:17231-1784620800-1788195600@www.stbedesblackburn.com
SUMMARY:Summer Break
DESCRIPTION:
URL:https://www.stbedesblackburn.com/event/summer-break/
END:VEVENT
END:VCALENDAR