BEGIN:VCALENDAR
VERSION:2.0
PRODID:-//St Bedes Blackburn - ECPv6.0.2//NONSGML v1.0//EN
CALSCALE:GREGORIAN
METHOD:PUBLISH
X-ORIGINAL-URL:https://www.stbedesblackburn.com
X-WR-CALDESC:Events for St Bedes Blackburn
REFRESH-INTERVAL;VALUE=DURATION:PT1H
X-Robots-Tag:noindex
X-PUBLISHED-TTL:PT1H
BEGIN:VTIMEZONE
TZID:Europe/London
BEGIN:DAYLIGHT
TZOFFSETFROM:+0000
TZOFFSETTO:+0100
TZNAME:BST
DTSTART:20260329T010000
END:DAYLIGHT
BEGIN:STANDARD
TZOFFSETFROM:+0100
TZOFFSETTO:+0000
TZNAME:GMT
DTSTART:20261025T010000
END:STANDARD
END:VTIMEZONE
BEGIN:VEVENT
DTSTART;TZID=Europe/London:20260416T080000
DTEND;TZID=Europe/London:20260427T170000
DTSTAMP:20260421T083407
CREATED:20260313T091756Z
LAST-MODIFIED:20260313T091756Z
UID:18495-1776326400-1777309200@www.stbedesblackburn.com
SUMMARY:Year 11 GCSE MFL exams
DESCRIPTION:
URL:https://www.stbedesblackburn.com/event/year-11-gcse-mfl-exams/
END:VEVENT
BEGIN:VEVENT
DTSTART;VALUE=DATE:20260422
DTEND;VALUE=DATE:20260425
DTSTAMP:20260421T083407
CREATED:20251024T081144Z
LAST-MODIFIED:20251024T081144Z
UID:17742-1776816000-1777075199@www.stbedesblackburn.com
SUMMARY:Castlerigg Trip
DESCRIPTION:
URL:https://www.stbedesblackburn.com/event/castlerigg-trip/
END:VEVENT
BEGIN:VEVENT
DTSTART;TZID=Europe/London:20260428T180000
DTEND;TZID=Europe/London:20260428T193000
DTSTAMP:20260421T083407
CREATED:20251024T081245Z
LAST-MODIFIED:20251024T081245Z
UID:17744-1777399200-1777404600@www.stbedesblackburn.com
SUMMARY:Celebration Mass - Year 11
DESCRIPTION:
URL:https://www.stbedesblackburn.com/event/celebration-mass-year-11/
END:VEVENT
END:VCALENDAR